BEGIN:VCALENDAR
VERSION:2.0
PRODID:-//Tukios.com/
BEGIN:VEVENT
UID:38c1ec18-ea9c-4bfd-b71f-ac21d689dd82@www.pedersonvolker.com
DTSTAMP:20260424T010940Z
DTSTART:20260501T150000Z
DTEND:20260501T160000Z
SUMMARY:Visitation
DESCRIPTION:
URL:https://www.pedersonvolker.com/obituaries/earl-mcilquham
LOCATION:Trinity United Methodist Church 201 W Central St  Chippewa Falls 
	WI 54729
GEO:44.9342816;-91.3949431
END:VEVENT
END:VCALENDAR