BEGIN:VCALENDAR
VERSION:2.0
PRODID:-//Tukios.com/
BEGIN:VEVENT
UID:c7f7f09c-5dfd-4b7b-b192-62f15f3432a9@www.pedersonvolker.com
DTSTAMP:20260424T010940Z
DTSTART:20260501T160000Z
DTEND:20260501T170000Z
SUMMARY:Funeral Service
DESCRIPTION:
URL:https://www.pedersonvolker.com/obituaries/earl-mcilquham
LOCATION: 201 W Central St  Chippewa Falls WI 54729
GEO:44.9342816;-91.3949431
END:VEVENT
END:VCALENDAR