BEGIN:VCALENDAR
VERSION:2.0
PRODID:-//Tukios.com/
BEGIN:VEVENT
UID:34b103ff-f9f4-4240-b8ad-ce5a163c418e@www.pedersonvolker.com
DTSTAMP:20260421T013112Z
DTSTART:20260429T160000Z
DTEND:20260429T170000Z
SUMMARY:Graveside Service
DESCRIPTION:
URL:https://www.pedersonvolker.com/obituaries/jeffrey-engel
LOCATION:Prairie View Cemetery 4127 N Prairie View Rd  Chippewa Falls WI 
	54729
GEO:44.902143;-91.411103
END:VEVENT
END:VCALENDAR