BEGIN:VCALENDAR
VERSION:2.0
PRODID:-//Tukios.com/
BEGIN:VEVENT
UID:bf25fc94-ed0c-4831-a105-024b1a930b98@www.pedersonvolker.com
DTSTAMP:20260421T012417Z
DTSTART:20260429T170000Z
DTEND:20260429T200000Z
SUMMARY:Celebration of Life
DESCRIPTION:
URL:https://www.pedersonvolker.com/obituaries/jeffrey-engel
LOCATION:Loopy’s 10691 County Highway X  Chippewa Falls WI 54729
GEO:44.9227731;-91.4569896
END:VEVENT
END:VCALENDAR