BEGIN:VCALENDAR
VERSION:2.0
PRODID:-//Tukios.com/
BEGIN:VEVENT
UID:79a37b7f-214f-45bc-bd91-98dacc0c33b7@www.pedersonvolker.com
DTSTAMP:20260421T085914Z
DTSTART:20260423T143000Z
DTEND:20260423T160000Z
SUMMARY:Visitation
DESCRIPTION:
URL:https://www.pedersonvolker.com/obituaries/jerrie-yehling
LOCATION:Pederson-Volker Funeral Chapel 44 East Columbia Street  Chippewa 
	Falls WI 54729
GEO:44.9388676;-91.3927181
END:VEVENT
END:VCALENDAR