BEGIN:VCALENDAR
VERSION:2.0
PRODID:-//Tukios.com/
BEGIN:VEVENT
UID:8b1a9bae-a966-4204-be28-574034ab71df@www.pedersonvolker.com
DTSTAMP:20260421T085449Z
DTSTART:20260423T160000Z
DTEND:20260423T170000Z
SUMMARY:Funeral Service
DESCRIPTION:
URL:https://www.pedersonvolker.com/obituaries/jerrie-yehling
LOCATION:Pederson-Volker Funeral Chapel 44 East Columbia Street  Chippewa 
	Falls WI 54729
GEO:44.9389109;-91.3927936
END:VEVENT
END:VCALENDAR