BEGIN:VCALENDAR
VERSION:2.0
PRODID:-//Tukios.com/
BEGIN:VEVENT
UID:cf2dc2c0-acf1-41b6-9b49-cc6143d8a74a@www.pedersonvolker.com
DTSTAMP:20260421T012241Z
DTSTART:20260428T160000Z
DTEND:20260428T170000Z
SUMMARY:Graveside Service
DESCRIPTION:
URL:https://www.pedersonvolker.com/obituaries/keith-connell
LOCATION:The Northern Wisconsin Veterans Memorial Cemetery N4063 Veterans 
	Way  Spooner WI 54801
GEO:45.7795525;-91.8253144
END:VEVENT
END:VCALENDAR